BEGIN:VCALENDAR
VERSION:2.0
PRODID:-//Castelgym - ECPv6.15.13.1//NONSGML v1.0//EN
CALSCALE:GREGORIAN
METHOD:PUBLISH
X-ORIGINAL-URL:https://www.castelgym.it
X-WR-CALDESC:Eventi per Castelgym
REFRESH-INTERVAL;VALUE=DURATION:PT1H
X-Robots-Tag:noindex
X-PUBLISHED-TTL:PT1H
BEGIN:VTIMEZONE
TZID:Europe/Rome
BEGIN:DAYLIGHT
TZOFFSETFROM:+0100
TZOFFSETTO:+0200
TZNAME:CEST
DTSTART:20140330T010000
END:DAYLIGHT
BEGIN:STANDARD
TZOFFSETFROM:+0200
TZOFFSETTO:+0100
TZNAME:CET
DTSTART:20141026T010000
END:STANDARD
BEGIN:DAYLIGHT
TZOFFSETFROM:+0100
TZOFFSETTO:+0200
TZNAME:CEST
DTSTART:20150329T010000
END:DAYLIGHT
BEGIN:STANDARD
TZOFFSETFROM:+0200
TZOFFSETTO:+0100
TZNAME:CET
DTSTART:20151025T010000
END:STANDARD
BEGIN:DAYLIGHT
TZOFFSETFROM:+0100
TZOFFSETTO:+0200
TZNAME:CEST
DTSTART:20160327T010000
END:DAYLIGHT
BEGIN:STANDARD
TZOFFSETFROM:+0200
TZOFFSETTO:+0100
TZNAME:CET
DTSTART:20161030T010000
END:STANDARD
END:VTIMEZONE
BEGIN:VEVENT
DTSTART;TZID=Europe/Rome:20151224T070000
DTEND;TZID=Europe/Rome:20151224T160000
DTSTAMP:20260424T192601
CREATED:20150210T123305Z
LAST-MODIFIED:20150210T123305Z
UID:268-1450940400-1450972800@www.castelgym.it
SUMMARY:High impact fun classes
DESCRIPTION:Cras vehicula ornare felis quis lobortis. Donec et elementum mauris\, sed accumsan ante. Donec suscipit neque vel mauris lobortis\, id condimentum mi mattis. Curabitur dolor nibh\, feugiat in nunc a\, feugiat tristique sem. Curabitur efficitur eros in blandit fermentum. Suspendisse in dui porta\, pretium nibh tristique\, lobortis metus. Nulla dictum ligula accumsan\, imperdiet neque blandit\, rutrum nunc. Proin quis suscipit quam\, eget tincidunt arcu. Ut et tortor nec tellus pretium interdum. Phasellus porttitor\, libero sit amet tempus viverra\, velit felis tincidunt lorem\, vitae tempor lorem erat non lorem. Nam lobortis lacus id est tincidunt\, at tempor tellus tristique. \nIn ex erat\, blandit id lacinia quis\, ornare in magna. Proin vulputate massa vel cursus fringilla. Vivamus sed diam cursus\, rutrum enim et\, viverra mauris. Quisque vestibulum\, sem eu consequat rutrum\, erat purus semper nunc\, ac facilisis nisl eros id ligula. Praesent aliquam lacinia nulla. Nunc sit amet neque eu ipsum mattis tempor. Sed eleifend fringilla elementum. Quisque erat tortor\, efficitur ac rutrum nec\, commodo eu felis.
URL:https://www.castelgym.it/event/high-impact-fun-classes/
LOCATION:Endurance gym\, peelmedu \, coimbatore\, 95412\, India
CATEGORIES:Flexible
ATTACH;FMTTYPE=image/gif:https://www.castelgym.it/wp-content/uploads/2015/02/1170x800textEvent-1.gif
ORGANIZER;CN="Sundar":MAILTO:ram@iamd.com
END:VEVENT
END:VCALENDAR